BEGIN:VCALENDAR
VERSION:2.0
PRODID:-//Looky Here - ECPv6.15.20//NONSGML v1.0//EN
CALSCALE:GREGORIAN
METHOD:PUBLISH
X-ORIGINAL-URL:https://lookyheregreenfield.com
X-WR-CALDESC:Events for Looky Here
REFRESH-INTERVAL;VALUE=DURATION:PT1H
X-Robots-Tag:noindex
X-PUBLISHED-TTL:PT1H
BEGIN:VTIMEZONE
TZID:America/New_York
BEGIN:DAYLIGHT
TZOFFSETFROM:-0500
TZOFFSETTO:-0400
TZNAME:EDT
DTSTART:20240310T070000
END:DAYLIGHT
BEGIN:STANDARD
TZOFFSETFROM:-0400
TZOFFSETTO:-0500
TZNAME:EST
DTSTART:20241103T060000
END:STANDARD
BEGIN:DAYLIGHT
TZOFFSETFROM:-0500
TZOFFSETTO:-0400
TZNAME:EDT
DTSTART:20250309T070000
END:DAYLIGHT
BEGIN:STANDARD
TZOFFSETFROM:-0400
TZOFFSETTO:-0500
TZNAME:EST
DTSTART:20251102T060000
END:STANDARD
BEGIN:DAYLIGHT
TZOFFSETFROM:-0500
TZOFFSETTO:-0400
TZNAME:EDT
DTSTART:20260308T070000
END:DAYLIGHT
BEGIN:STANDARD
TZOFFSETFROM:-0400
TZOFFSETTO:-0500
TZNAME:EST
DTSTART:20261101T060000
END:STANDARD
END:VTIMEZONE
BEGIN:VEVENT
DTSTART;TZID=America/New_York:20251121T170000
DTEND;TZID=America/New_York:20251121T200000
DTSTAMP:20260423T221857
CREATED:20251007T201643Z
LAST-MODIFIED:20251121T180324Z
UID:14152-1763744400-1763755200@lookyheregreenfield.com
SUMMARY:Riso Zine Workshop (5:00-8:00 $80 all materials included)
DESCRIPTION:Risograph Zine Workshop! 5:00-8:00 $80 \nMake 20 copies of your own mini zine with two layers on the risograph!
URL:https://lookyheregreenfield.com/event/riso-zine-workshop-8-7-500-800-80-all-materials-included/
CATEGORIES:workshop
ATTACH;FMTTYPE=image/jpeg:https://lookyheregreenfield.com/wp-content/uploads/2024/02/Zine-photo-scaled.jpg
END:VEVENT
END:VCALENDAR