BEGIN:VCALENDAR
VERSION:2.0
PRODID:-//Looky Here - ECPv6.15.20//NONSGML v1.0//EN
CALSCALE:GREGORIAN
METHOD:PUBLISH
X-WR-CALNAME:Looky Here
X-ORIGINAL-URL:https://lookyheregreenfield.com
X-WR-CALDESC:Events for Looky Here
REFRESH-INTERVAL;VALUE=DURATION:PT1H
X-Robots-Tag:noindex
X-PUBLISHED-TTL:PT1H
BEGIN:VTIMEZONE
TZID:America/New_York
BEGIN:DAYLIGHT
TZOFFSETFROM:-0500
TZOFFSETTO:-0400
TZNAME:EDT
DTSTART:20250309T070000
END:DAYLIGHT
BEGIN:STANDARD
TZOFFSETFROM:-0400
TZOFFSETTO:-0500
TZNAME:EST
DTSTART:20251102T060000
END:STANDARD
BEGIN:DAYLIGHT
TZOFFSETFROM:-0500
TZOFFSETTO:-0400
TZNAME:EDT
DTSTART:20260308T070000
END:DAYLIGHT
BEGIN:STANDARD
TZOFFSETFROM:-0400
TZOFFSETTO:-0500
TZNAME:EST
DTSTART:20261101T060000
END:STANDARD
BEGIN:DAYLIGHT
TZOFFSETFROM:-0500
TZOFFSETTO:-0400
TZNAME:EDT
DTSTART:20270314T070000
END:DAYLIGHT
BEGIN:STANDARD
TZOFFSETFROM:-0400
TZOFFSETTO:-0500
TZNAME:EST
DTSTART:20271107T060000
END:STANDARD
END:VTIMEZONE
BEGIN:VEVENT
DTSTART;TZID=America/New_York:20260105T180000
DTEND;TZID=America/New_York:20260105T210000
DTSTAMP:20260423T184617
CREATED:20251127T113355Z
LAST-MODIFIED:20251127T113531Z
UID:14700-1767636000-1767646800@lookyheregreenfield.com
SUMMARY:Drawing for Beginners with Giselle Harrington (6:00-9:00 4 week session)
DESCRIPTION:Drawing for Beginners\n4 Monday evenings\, 6-9pm (3 hours). January 5\, 12\, 19\, 26.  $220\nIf class has to be canceled due to snow or ice\, please note that there is no make-up date and students will be reimbursed for the individual canceled class. \nDescription:\nDrawing is the backbone of any work on paper. Learning to draw also means learning to see in a way that applies both to drawing and to working with color. This way of seeing is about looking at objects as two-dimensional\, related\, abstract shapes rather than real objects. This class will teach you how to master drawing through a series of exercises which you can continue to practice at home to develop your skills. In this class you will also learn basic principles such as how to hold the drawing tool\, what tools you can use for drawing\, how drawing relates to image-making as a whole\, and how perspective works.  \nTools: Students bring their own tools. Minimum: paper\, board to support the paper and clips to hold it (if paper is not in a hard cover sketchbook)\, pencil\, eraser. Recommended: Newsprint pad not smaller than 9×12 but preferably bigger\, a board with clips to support the paper\, willow charcoal or graphite pencil\, and eraser: kneaded (for charcoal) or hi-polymer such as Mars Plastic or Pentel.
URL:https://lookyheregreenfield.com/event/drawing-for-beginners-with-giselle-harrington-600-900-4-week-session/
CATEGORIES:workshop
ATTACH;FMTTYPE=image/jpeg:https://lookyheregreenfield.com/wp-content/uploads/2025/11/Looky-Here-Jan-2026-copy.jpg
END:VEVENT
END:VCALENDAR