BEGIN:VCALENDAR
VERSION:2.0
PRODID:-//Looky Here - ECPv6.15.20//NONSGML v1.0//EN
CALSCALE:GREGORIAN
METHOD:PUBLISH
X-WR-CALNAME:Looky Here
X-ORIGINAL-URL:https://lookyheregreenfield.com
X-WR-CALDESC:Events for Looky Here
REFRESH-INTERVAL;VALUE=DURATION:PT1H
X-Robots-Tag:noindex
X-PUBLISHED-TTL:PT1H
BEGIN:VTIMEZONE
TZID:America/New_York
BEGIN:DAYLIGHT
TZOFFSETFROM:-0500
TZOFFSETTO:-0400
TZNAME:EDT
DTSTART:20250309T070000
END:DAYLIGHT
BEGIN:STANDARD
TZOFFSETFROM:-0400
TZOFFSETTO:-0500
TZNAME:EST
DTSTART:20251102T060000
END:STANDARD
BEGIN:DAYLIGHT
TZOFFSETFROM:-0500
TZOFFSETTO:-0400
TZNAME:EDT
DTSTART:20260308T070000
END:DAYLIGHT
BEGIN:STANDARD
TZOFFSETFROM:-0400
TZOFFSETTO:-0500
TZNAME:EST
DTSTART:20261101T060000
END:STANDARD
BEGIN:DAYLIGHT
TZOFFSETFROM:-0500
TZOFFSETTO:-0400
TZNAME:EDT
DTSTART:20270314T070000
END:DAYLIGHT
BEGIN:STANDARD
TZOFFSETFROM:-0400
TZOFFSETTO:-0500
TZNAME:EST
DTSTART:20271107T060000
END:STANDARD
END:VTIMEZONE
BEGIN:VEVENT
DTSTART;TZID=America/New_York:20260107T180000
DTEND;TZID=America/New_York:20260107T200000
DTSTAMP:20260423T185018
CREATED:20251203T194652Z
LAST-MODIFIED:20251203T194656Z
UID:14752-1767808800-1767816000@lookyheregreenfield.com
SUMMARY:The Mixed Technique: Painting with Acrylic and Oil with Julia Zanes (4-week 1/7-1/28)
DESCRIPTION:Hieronymus Bosch and the Pieter Bruegel (and many other Netherlandish artists ) used a technique we sometimes call  the “mixed technique”  because  it used both egg and linseed oil. \n     In these classes we will appropriate this technique using acrylic paints for the first layers and oil at the end. The process involves an earth colored ground and working only with lights and darks\, an ochre layer\, more darks and lights with the goal of achieving  a wide range of values.  For the last layer a transparent glaze of oil paint is added. We look at the painting only in terms of value until the last layer which is when the color is added.  \n      I took a class in this technique many many years ago and often still think in terms of layering.\n It will be fun\, not as technical as it sounds\, just a nod to the tradition.
URL:https://lookyheregreenfield.com/event/the-mixed-technique-painting-with-acrylic-and-oil-with-julia-zanes-4-week-1-7-1-28/
CATEGORIES:workshop
ATTACH;FMTTYPE=image/jpeg:https://lookyheregreenfield.com/wp-content/uploads/2025/12/IMG_7352.jpeg
END:VEVENT
END:VCALENDAR