BEGIN:VCALENDAR
VERSION:2.0
PRODID:-//Looky Here - ECPv6.15.20//NONSGML v1.0//EN
CALSCALE:GREGORIAN
METHOD:PUBLISH
X-ORIGINAL-URL:https://lookyheregreenfield.com
X-WR-CALDESC:Events for Looky Here
REFRESH-INTERVAL;VALUE=DURATION:PT1H
X-Robots-Tag:noindex
X-PUBLISHED-TTL:PT1H
BEGIN:VTIMEZONE
TZID:America/New_York
BEGIN:DAYLIGHT
TZOFFSETFROM:-0500
TZOFFSETTO:-0400
TZNAME:EDT
DTSTART:20250309T070000
END:DAYLIGHT
BEGIN:STANDARD
TZOFFSETFROM:-0400
TZOFFSETTO:-0500
TZNAME:EST
DTSTART:20251102T060000
END:STANDARD
BEGIN:DAYLIGHT
TZOFFSETFROM:-0500
TZOFFSETTO:-0400
TZNAME:EDT
DTSTART:20260308T070000
END:DAYLIGHT
BEGIN:STANDARD
TZOFFSETFROM:-0400
TZOFFSETTO:-0500
TZNAME:EST
DTSTART:20261101T060000
END:STANDARD
BEGIN:DAYLIGHT
TZOFFSETFROM:-0500
TZOFFSETTO:-0400
TZNAME:EDT
DTSTART:20270314T070000
END:DAYLIGHT
BEGIN:STANDARD
TZOFFSETFROM:-0400
TZOFFSETTO:-0500
TZNAME:EST
DTSTART:20271107T060000
END:STANDARD
END:VTIMEZONE
BEGIN:VEVENT
DTSTART;TZID=America/New_York:20260111T120000
DTEND;TZID=America/New_York:20260111T140000
DTSTAMP:20260423T185155
CREATED:20251127T112812Z
LAST-MODIFIED:20260110T220424Z
UID:14695-1768132800-1768140000@lookyheregreenfield.com
SUMMARY:Make a Beret with Estha Amar (1/11)
DESCRIPTION:Learn to make a beret!\n A beret is only three circles and some very simple math.  \nIn this class you will learn how to make a basic beret and then how to do a contrasting lining and an edging. \nPractice fabric will be available but feel free to bring your own to work on a final piece. \nThis hat can be made by hand or on a sewing machine. We will work on both techniques.  \nYou will receive a paper pattern with instructions and a digital file of the pattern.
URL:https://lookyheregreenfield.com/event/make-a-beret-with-estha-amar/
CATEGORIES:Sewing,workshop
ATTACH;FMTTYPE=image/jpeg:https://lookyheregreenfield.com/wp-content/uploads/2025/11/1000006421.jpg
END:VEVENT
BEGIN:VEVENT
DTSTART;TZID=America/New_York:20260111T180000
DTEND;TZID=America/New_York:20260111T200000
DTSTAMP:20260423T185155
CREATED:20251009T022724Z
LAST-MODIFIED:20260106T205810Z
UID:14197-1768154400-1768161600@lookyheregreenfield.com
SUMMARY:The 90 Day Novel - 7 Biweekly Sundays (90 days) 1/11 - 4/19 6:00-7:30 $200
DESCRIPTION:Write a novel in just 90 days! \nIn this book club–meets–writing workshop\, we’ll use The 90-Day Novel by Alan Watt as our guide to draft a complete novel in just three months. Whether you’re starting with a fresh idea or returning to a long-lost story\, this course will give you the structure\, support\, and accountability to see it through. \nWe’ll meet every other Sunday to discuss the book’s insights on the creative process\, share progress\, workshop ideas\, and encourage each other through the challenges of long-form storytelling. Each session includes time for peer feedback. \nNo experience required—just a desire to write and a commitment to show up for your story. \nBring a copy of the novel\, or let us know if you want to join a group order by emailing LookyHereGreenfield@gmail.com \nWe’ll wrap up with a celebratory class reading\, where everyone is invited to share a chapter from their novel on Sunday April 19th (date subject to change – we will confirm as a group!) \nNo class 4/5
URL:https://lookyheregreenfield.com/event/the-90-day-novel-8-biweekly-thursdays-90-days-1-8-4-16-600-800-190/
CATEGORIES:workshop
ATTACH;FMTTYPE=image/jpeg:https://lookyheregreenfield.com/wp-content/uploads/2025/10/90-day.jpg
END:VEVENT
END:VCALENDAR