BEGIN:VCALENDAR
VERSION:2.0
PRODID:-//Looky Here - ECPv6.15.20//NONSGML v1.0//EN
CALSCALE:GREGORIAN
METHOD:PUBLISH
X-WR-CALNAME:Looky Here
X-ORIGINAL-URL:https://lookyheregreenfield.com
X-WR-CALDESC:Events for Looky Here
REFRESH-INTERVAL;VALUE=DURATION:PT1H
X-Robots-Tag:noindex
X-PUBLISHED-TTL:PT1H
BEGIN:VTIMEZONE
TZID:America/New_York
BEGIN:DAYLIGHT
TZOFFSETFROM:-0500
TZOFFSETTO:-0400
TZNAME:EDT
DTSTART:20250309T070000
END:DAYLIGHT
BEGIN:STANDARD
TZOFFSETFROM:-0400
TZOFFSETTO:-0500
TZNAME:EST
DTSTART:20251102T060000
END:STANDARD
BEGIN:DAYLIGHT
TZOFFSETFROM:-0500
TZOFFSETTO:-0400
TZNAME:EDT
DTSTART:20260308T070000
END:DAYLIGHT
BEGIN:STANDARD
TZOFFSETFROM:-0400
TZOFFSETTO:-0500
TZNAME:EST
DTSTART:20261101T060000
END:STANDARD
BEGIN:DAYLIGHT
TZOFFSETFROM:-0500
TZOFFSETTO:-0400
TZNAME:EDT
DTSTART:20270314T070000
END:DAYLIGHT
BEGIN:STANDARD
TZOFFSETFROM:-0400
TZOFFSETTO:-0500
TZNAME:EST
DTSTART:20271107T060000
END:STANDARD
END:VTIMEZONE
BEGIN:VEVENT
DTSTART;TZID=America/New_York:20260125T130000
DTEND;TZID=America/New_York:20260125T150000
DTSTAMP:20260423T185017
CREATED:20251203T201011Z
LAST-MODIFIED:20251203T201011Z
UID:14774-1769346000-1769353200@lookyheregreenfield.com
SUMMARY:Make Our Merch! A free up cycling workshop! (1/25)
DESCRIPTION:Learn different methods of up-cycling clothing to creator line of Looky Looks! All items made will be sold as merchandise in our shop!
URL:https://lookyheregreenfield.com/event/make-our-merch-a-free-up-cycling-workshop-1-25/
CATEGORIES:Sewing,workshop
ATTACH;FMTTYPE=image/webp:https://lookyheregreenfield.com/wp-content/uploads/2025/01/Make-our-Merch.webp
END:VEVENT
END:VCALENDAR