BEGIN:VCALENDAR
VERSION:2.0
PRODID:-//Looky Here - ECPv6.15.20//NONSGML v1.0//EN
CALSCALE:GREGORIAN
METHOD:PUBLISH
X-ORIGINAL-URL:https://lookyheregreenfield.com
X-WR-CALDESC:Events for Looky Here
REFRESH-INTERVAL;VALUE=DURATION:PT1H
X-Robots-Tag:noindex
X-PUBLISHED-TTL:PT1H
BEGIN:VTIMEZONE
TZID:America/New_York
BEGIN:DAYLIGHT
TZOFFSETFROM:-0500
TZOFFSETTO:-0400
TZNAME:EDT
DTSTART:20250309T070000
END:DAYLIGHT
BEGIN:STANDARD
TZOFFSETFROM:-0400
TZOFFSETTO:-0500
TZNAME:EST
DTSTART:20251102T060000
END:STANDARD
BEGIN:DAYLIGHT
TZOFFSETFROM:-0500
TZOFFSETTO:-0400
TZNAME:EDT
DTSTART:20260308T070000
END:DAYLIGHT
BEGIN:STANDARD
TZOFFSETFROM:-0400
TZOFFSETTO:-0500
TZNAME:EST
DTSTART:20261101T060000
END:STANDARD
BEGIN:DAYLIGHT
TZOFFSETFROM:-0500
TZOFFSETTO:-0400
TZNAME:EDT
DTSTART:20270314T070000
END:DAYLIGHT
BEGIN:STANDARD
TZOFFSETFROM:-0400
TZOFFSETTO:-0500
TZNAME:EST
DTSTART:20271107T060000
END:STANDARD
END:VTIMEZONE
BEGIN:VEVENT
DTSTART;TZID=America/New_York:20260721T180000
DTEND;TZID=America/New_York:20260721T200000
DTSTAMP:20260423T184401
CREATED:20260401T191826Z
LAST-MODIFIED:20260415T174920Z
UID:16259-1784656800-1784664000@lookyheregreenfield.com
SUMMARY:Book Arts: Secret Belgium Binding with Emily Holt (July 21st\, 6:00-8:00pm\, $30)
DESCRIPTION:Shh!  It’s a Secret!  This wonderful hard cover book opens flat and makes a great journal or sketch book.  Students will design their own covers using decorative paper\, book cloth or collage.
URL:https://lookyheregreenfield.com/event/book-arts-secret-belgium-binding-with-emily-holt-july-7th-600-800pm-30/
CATEGORIES:workshop
ATTACH;FMTTYPE=image/jpeg:https://lookyheregreenfield.com/wp-content/uploads/2026/04/Secret-Belgium-4.jpg
END:VEVENT
END:VCALENDAR