BEGIN:VCALENDAR
VERSION:2.0
PRODID:-//Looky Here - ECPv6.15.20//NONSGML v1.0//EN
CALSCALE:GREGORIAN
METHOD:PUBLISH
X-ORIGINAL-URL:https://lookyheregreenfield.com
X-WR-CALDESC:Events for Looky Here
REFRESH-INTERVAL;VALUE=DURATION:PT1H
X-Robots-Tag:noindex
X-PUBLISHED-TTL:PT1H
BEGIN:VTIMEZONE
TZID:America/New_York
BEGIN:DAYLIGHT
TZOFFSETFROM:-0500
TZOFFSETTO:-0400
TZNAME:EDT
DTSTART:20250309T070000
END:DAYLIGHT
BEGIN:STANDARD
TZOFFSETFROM:-0400
TZOFFSETTO:-0500
TZNAME:EST
DTSTART:20251102T060000
END:STANDARD
BEGIN:DAYLIGHT
TZOFFSETFROM:-0500
TZOFFSETTO:-0400
TZNAME:EDT
DTSTART:20260308T070000
END:DAYLIGHT
BEGIN:STANDARD
TZOFFSETFROM:-0400
TZOFFSETTO:-0500
TZNAME:EST
DTSTART:20261101T060000
END:STANDARD
BEGIN:DAYLIGHT
TZOFFSETFROM:-0500
TZOFFSETTO:-0400
TZNAME:EDT
DTSTART:20270314T070000
END:DAYLIGHT
BEGIN:STANDARD
TZOFFSETFROM:-0400
TZOFFSETTO:-0500
TZNAME:EST
DTSTART:20271107T060000
END:STANDARD
END:VTIMEZONE
BEGIN:VEVENT
DTSTART;TZID=America/New_York:20260726T130000
DTEND;TZID=America/New_York:20260726T160000
DTSTAMP:20260423T184749
CREATED:20260415T190248Z
LAST-MODIFIED:20260415T190249Z
UID:16454-1785070800-1785081600@lookyheregreenfield.com
SUMMARY:*Open Studio Sundays (1-4 p.m.\, drop-ins welcome!)
DESCRIPTION:CRAFT\nMEND\nSEW\nDRAW\nWRITE \nuse the space from 1:00-4:00 p.m. \ndrop-ins welcome! \nBring any project you like. We will set you up with a large table. You can use our sewing machines\, glue guns\, and whatever other resources we have! $10 – free for members
URL:https://lookyheregreenfield.com/event/open-studio-sundays-1-4-p-m-drop-ins-welcome-13/
CATEGORIES:workshop
ATTACH;FMTTYPE=image/jpeg:https://lookyheregreenfield.com/wp-content/uploads/2026/03/IMG_2371.jpg
END:VEVENT
BEGIN:VEVENT
DTSTART;TZID=America/New_York:20260726T180000
DTEND;TZID=America/New_York:20260726T200000
DTSTAMP:20260423T184749
CREATED:20260408T195654Z
LAST-MODIFIED:20260408T200538Z
UID:16360-1785088800-1785096000@lookyheregreenfield.com
SUMMARY:Playwriting/Performance Workshop: Playing Utopia with Jeremy Geragotelis (six weeks\, 7/26-8/30\, 6-8pm\, $150)
DESCRIPTION:Playing Utopia: Future Livenesses and Political Possibility \nTime-based art is particularly well suited to teach its audience that other ways to live\, to survive\, to revolt are possible. It’s hard to deny a future when it’s right there in front of you. We will spend this workshop writing new pieces of theater and performance that imagine a more livable life for more people. How can a play or performance be a how-to guide in not just imagining but enacting(!) utopia?  \nWe’ll read excerpts from playwrights\, poets\, and theorists: B. Brecht\, J. S. Drury\, M. Blitzstein\, S. Treadwell\, C. Churchill\, T. Hearne\, Sophocles\, A. Washburn\, F. Jameson\, J. E. Muñoz.  \nThis six-week workshop is for anyone looking to experiment in playwriting and performance-writing—no previous experience in these forms is necessary. Participants will have time to both write and share their work. The class will end with some form of culminating performance!
URL:https://lookyheregreenfield.com/event/playwriting-performance-workshop-playing-utopia-with-jeremy-geragotelis-six-weeks-7-26-8-30-6-8pm-150/
CATEGORIES:workshop,writing
ATTACH;FMTTYPE=image/png:https://lookyheregreenfield.com/wp-content/uploads/2026/04/Playing-Utopia-Looky-Here_Geragotelis.png
END:VEVENT
END:VCALENDAR