BEGIN:VCALENDAR
VERSION:2.0
PRODID:-//Looky Here - ECPv6.15.20//NONSGML v1.0//EN
CALSCALE:GREGORIAN
METHOD:PUBLISH
X-ORIGINAL-URL:https://lookyheregreenfield.com
X-WR-CALDESC:Events for Looky Here
REFRESH-INTERVAL;VALUE=DURATION:PT1H
X-Robots-Tag:noindex
X-PUBLISHED-TTL:PT1H
BEGIN:VTIMEZONE
TZID:America/New_York
BEGIN:DAYLIGHT
TZOFFSETFROM:-0500
TZOFFSETTO:-0400
TZNAME:EDT
DTSTART:20250309T070000
END:DAYLIGHT
BEGIN:STANDARD
TZOFFSETFROM:-0400
TZOFFSETTO:-0500
TZNAME:EST
DTSTART:20251102T060000
END:STANDARD
BEGIN:DAYLIGHT
TZOFFSETFROM:-0500
TZOFFSETTO:-0400
TZNAME:EDT
DTSTART:20260308T070000
END:DAYLIGHT
BEGIN:STANDARD
TZOFFSETFROM:-0400
TZOFFSETTO:-0500
TZNAME:EST
DTSTART:20261101T060000
END:STANDARD
BEGIN:DAYLIGHT
TZOFFSETFROM:-0500
TZOFFSETTO:-0400
TZNAME:EDT
DTSTART:20270314T070000
END:DAYLIGHT
BEGIN:STANDARD
TZOFFSETFROM:-0400
TZOFFSETTO:-0500
TZNAME:EST
DTSTART:20271107T060000
END:STANDARD
END:VTIMEZONE
BEGIN:VEVENT
DTSTART;TZID=America/New_York:20260729T180000
DTEND;TZID=America/New_York:20260729T210000
DTSTAMP:20260423T185541
CREATED:20260401T181120Z
LAST-MODIFIED:20260408T174209Z
UID:16215-1785348000-1785358800@lookyheregreenfield.com
SUMMARY:Writing on Writing: A Metafiction Working Group with Lena Rubin - Session 2 (July 29th & August 5th\, 6:00-9:00pm\, $150)
DESCRIPTION:In this experimental working group\, we will study and play with the technique of metafiction —tentatively defined here as “writing on writing.” As we engage with metafictional texts such as Anna Moschovakis’ Eleanor\, or The Rejection of the Progress of Love\, Renee Gladman’s My Lesbian Novel\, and Zia Anger’s My First Film\, we will embark on a delirious and cerebral metatextual journey that transcends the boundaries between fiction and autobiography\, author and protagonist. Participants will come away with an increased understanding of metafiction as radical technique\, as well as inspiration to apply it to their own art-making in the service of more capaciousness\, experimentation\, and play. \nA note on scheduling: The group will meet during two separate sessions this summer. Each session will consist of two three-hour meetings. Diﬀerent material will be covered during each session (though themes and approach will remain continuous)\, so you are welcome to join us for either or both sessions. \n\nLena Rubin is a writer\, artist\, and teacher based in Florence\, MA. Lena’s work has been supported by the Outer Cape Artists in Residence Consortium\, recognized with a nomination to the Best New Poets anthology in 2024\, and published in Little Mirror\, Second Factory\, Afternoon Visitor\, and elsewhere. Lena will complete an MFA in Prose Writing at the University of Massachusetts Amherst as of May 2026. More at lenarubin.tumblr.com.
URL:https://lookyheregreenfield.com/event/writing-on-writing-a-metafiction-working-group-with-lena-rubin-session-2-july-29th-august-5th-600-900pm-150/
CATEGORIES:workshop,writing
ATTACH;FMTTYPE=image/jpeg:https://lookyheregreenfield.com/wp-content/uploads/2026/04/writing-on-writing-2.jpg
END:VEVENT
END:VCALENDAR