BEGIN:VCALENDAR
VERSION:2.0
PRODID:-//Looky Here - ECPv6.15.20//NONSGML v1.0//EN
CALSCALE:GREGORIAN
METHOD:PUBLISH
X-ORIGINAL-URL:https://lookyheregreenfield.com
X-WR-CALDESC:Events for Looky Here
REFRESH-INTERVAL;VALUE=DURATION:PT1H
X-Robots-Tag:noindex
X-PUBLISHED-TTL:PT1H
BEGIN:VTIMEZONE
TZID:America/New_York
BEGIN:DAYLIGHT
TZOFFSETFROM:-0500
TZOFFSETTO:-0400
TZNAME:EDT
DTSTART:20250309T070000
END:DAYLIGHT
BEGIN:STANDARD
TZOFFSETFROM:-0400
TZOFFSETTO:-0500
TZNAME:EST
DTSTART:20251102T060000
END:STANDARD
BEGIN:DAYLIGHT
TZOFFSETFROM:-0500
TZOFFSETTO:-0400
TZNAME:EDT
DTSTART:20260308T070000
END:DAYLIGHT
BEGIN:STANDARD
TZOFFSETFROM:-0400
TZOFFSETTO:-0500
TZNAME:EST
DTSTART:20261101T060000
END:STANDARD
BEGIN:DAYLIGHT
TZOFFSETFROM:-0500
TZOFFSETTO:-0400
TZNAME:EDT
DTSTART:20270314T070000
END:DAYLIGHT
BEGIN:STANDARD
TZOFFSETFROM:-0400
TZOFFSETTO:-0500
TZNAME:EST
DTSTART:20271107T060000
END:STANDARD
END:VTIMEZONE
BEGIN:VEVENT
DTSTART;TZID=America/New_York:20260729T180000
DTEND;TZID=America/New_York:20260729T210000
DTSTAMP:20260424T001805
CREATED:20260401T181120Z
LAST-MODIFIED:20260408T174209Z
UID:16215-1785348000-1785358800@lookyheregreenfield.com
SUMMARY:Writing on Writing: A Metafiction Working Group with Lena Rubin - Session 2 (July 29th & August 5th\, 6:00-9:00pm\, $150)
DESCRIPTION:In this experimental working group\, we will study and play with the technique of metafiction —tentatively defined here as “writing on writing.” As we engage with metafictional texts such as Anna Moschovakis’ Eleanor\, or The Rejection of the Progress of Love\, Renee Gladman’s My Lesbian Novel\, and Zia Anger’s My First Film\, we will embark on a delirious and cerebral metatextual journey that transcends the boundaries between fiction and autobiography\, author and protagonist. Participants will come away with an increased understanding of metafiction as radical technique\, as well as inspiration to apply it to their own art-making in the service of more capaciousness\, experimentation\, and play. \nA note on scheduling: The group will meet during two separate sessions this summer. Each session will consist of two three-hour meetings. Diﬀerent material will be covered during each session (though themes and approach will remain continuous)\, so you are welcome to join us for either or both sessions. \n\nLena Rubin is a writer\, artist\, and teacher based in Florence\, MA. Lena’s work has been supported by the Outer Cape Artists in Residence Consortium\, recognized with a nomination to the Best New Poets anthology in 2024\, and published in Little Mirror\, Second Factory\, Afternoon Visitor\, and elsewhere. Lena will complete an MFA in Prose Writing at the University of Massachusetts Amherst as of May 2026. More at lenarubin.tumblr.com.
URL:https://lookyheregreenfield.com/event/writing-on-writing-a-metafiction-working-group-with-lena-rubin-session-2-july-29th-august-5th-600-900pm-150/
CATEGORIES:workshop,writing
ATTACH;FMTTYPE=image/jpeg:https://lookyheregreenfield.com/wp-content/uploads/2026/04/writing-on-writing-2.jpg
END:VEVENT
BEGIN:VEVENT
DTSTART;TZID=America/New_York:20260730T180000
DTEND;TZID=America/New_York:20260730T200000
DTSTAMP:20260424T001805
CREATED:20260415T184422Z
LAST-MODIFIED:20260415T184423Z
UID:16436-1785434400-1785441600@lookyheregreenfield.com
SUMMARY:*Figure Drawing (7/30) (every other Thursday 6:00-8:00 $15 – free for members)
DESCRIPTION:BYO materials! Easel and drawing horses provided. Figure Drawing at Looky Here is an uninstructed drawing session with a nude model. $15 per session\, running 6-8pm on every other Thursday evening. \n*Participates in Card to Culture
URL:https://lookyheregreenfield.com/event/figure-drawing-7-30-every-other-thursday-600-800-15-free-for-members/
CATEGORIES:workshop
ATTACH;FMTTYPE=image/jpeg:https://lookyheregreenfield.com/wp-content/uploads/2024/09/figure-drawing-scaled.jpg
END:VEVENT
BEGIN:VEVENT
DTSTART;TZID=America/New_York:20260801T103000
DTEND;TZID=America/New_York:20260801T115000
DTSTAMP:20260424T001805
CREATED:20260415T191430Z
LAST-MODIFIED:20260415T191431Z
UID:16472-1785580200-1785585000@lookyheregreenfield.com
SUMMARY:*Morning Shift: Community Open Writing Time (Saturdays from 10:30-11:50)
DESCRIPTION:*Morning Shift: Community Open Writing Time (Saturdays from 10:30-11:50) \nWant to write but having trouble getting started? Or tired of writing alone into the void? Join us for a drop-in writing space\, open to all and free (donations to Looky Here for letting us use the space are encouraged). We will say hello to each other\, share a prompt or brief piece to get us going\, but mostly we will just write together. This is not a workshopping group or an open mic\, come with your notebook or laptop and get ready to get some words on the page in good company. \nFREE! \n* Participates in Card to Culture
URL:https://lookyheregreenfield.com/event/morning-shift-community-open-writing-time-saturdays-from-1030-1150-17/
CATEGORIES:workshop,writing
ATTACH;FMTTYPE=image/jpeg:https://lookyheregreenfield.com/wp-content/uploads/2026/03/morningshift.jpg
END:VEVENT
BEGIN:VEVENT
DTSTART;TZID=America/New_York:20260802T130000
DTEND;TZID=America/New_York:20260802T160000
DTSTAMP:20260424T001805
CREATED:20260415T190417Z
LAST-MODIFIED:20260415T190417Z
UID:16456-1785675600-1785686400@lookyheregreenfield.com
SUMMARY:*Open Studio Sundays (1-4 p.m.\, drop-ins welcome!)
DESCRIPTION:CRAFT\nMEND\nSEW\nDRAW\nWRITE \nuse the space from 1:00-4:00 p.m. \ndrop-ins welcome! \nBring any project you like. We will set you up with a large table. You can use our sewing machines\, glue guns\, and whatever other resources we have! $10 – free for members
URL:https://lookyheregreenfield.com/event/open-studio-sundays-1-4-p-m-drop-ins-welcome-14/
CATEGORIES:workshop
ATTACH;FMTTYPE=image/jpeg:https://lookyheregreenfield.com/wp-content/uploads/2026/03/IMG_2371.jpg
END:VEVENT
BEGIN:VEVENT
DTSTART;TZID=America/New_York:20260808T103000
DTEND;TZID=America/New_York:20260808T115000
DTSTAMP:20260424T001805
CREATED:20260415T191923Z
LAST-MODIFIED:20260415T191924Z
UID:16474-1786185000-1786189800@lookyheregreenfield.com
SUMMARY:*Morning Shift: Community Open Writing Time (Saturdays from 10:30-11:50)
DESCRIPTION:*Morning Shift: Community Open Writing Time (Saturdays from 10:30-11:50) \nWant to write but having trouble getting started? Or tired of writing alone into the void? Join us for a drop-in writing space\, open to all and free (donations to Looky Here for letting us use the space are encouraged). We will say hello to each other\, share a prompt or brief piece to get us going\, but mostly we will just write together. This is not a workshopping group or an open mic\, come with your notebook or laptop and get ready to get some words on the page in good company. \nFREE! \n* Participates in Card to Culture
URL:https://lookyheregreenfield.com/event/morning-shift-community-open-writing-time-saturdays-from-1030-1150-18/
CATEGORIES:workshop,writing
ATTACH;FMTTYPE=image/jpeg:https://lookyheregreenfield.com/wp-content/uploads/2026/03/morningshift.jpg
END:VEVENT
BEGIN:VEVENT
DTSTART;TZID=America/New_York:20260809T180000
DTEND;TZID=America/New_York:20260809T200000
DTSTAMP:20260424T001805
CREATED:20260415T190509Z
LAST-MODIFIED:20260415T190510Z
UID:16458-1786298400-1786305600@lookyheregreenfield.com
SUMMARY:*Open Studio Sundays (1-4 p.m.\, drop-ins welcome!)
DESCRIPTION:CRAFT\nMEND\nSEW\nDRAW\nWRITE \nuse the space from 1:00-4:00 p.m. \ndrop-ins welcome! \nBring any project you like. We will set you up with a large table. You can use our sewing machines\, glue guns\, and whatever other resources we have! $10 – free for members
URL:https://lookyheregreenfield.com/event/open-studio-sundays-1-4-p-m-drop-ins-welcome-15/
CATEGORIES:workshop
ATTACH;FMTTYPE=image/jpeg:https://lookyheregreenfield.com/wp-content/uploads/2026/03/IMG_2371.jpg
END:VEVENT
BEGIN:VEVENT
DTSTART;TZID=America/New_York:20260813T180000
DTEND;TZID=America/New_York:20260813T200000
DTSTAMP:20260424T001805
CREATED:20260415T184611Z
LAST-MODIFIED:20260415T184612Z
UID:16439-1786644000-1786651200@lookyheregreenfield.com
SUMMARY:*Figure Drawing (8/13) (every other Thursday 6:00-8:00 $15 – free for members)
DESCRIPTION:BYO materials! Easel and drawing horses provided. Figure Drawing at Looky Here is an uninstructed drawing session with a nude model. $15 per session\, running 6-8pm on every other Thursday evening. \n*Participates in Card to Culture
URL:https://lookyheregreenfield.com/event/figure-drawing-8-13-every-other-thursday-600-800-15-free-for-members/
CATEGORIES:workshop
ATTACH;FMTTYPE=image/jpeg:https://lookyheregreenfield.com/wp-content/uploads/2024/09/figure-drawing-scaled.jpg
END:VEVENT
BEGIN:VEVENT
DTSTART;TZID=America/New_York:20260815T103000
DTEND;TZID=America/New_York:20260815T115000
DTSTAMP:20260424T001805
CREATED:20260415T192042Z
LAST-MODIFIED:20260415T192043Z
UID:16476-1786789800-1786794600@lookyheregreenfield.com
SUMMARY:*Morning Shift: Community Open Writing Time (Saturdays from 10:30-11:50)
DESCRIPTION:*Morning Shift: Community Open Writing Time (Saturdays from 10:30-11:50) \nWant to write but having trouble getting started? Or tired of writing alone into the void? Join us for a drop-in writing space\, open to all and free (donations to Looky Here for letting us use the space are encouraged). We will say hello to each other\, share a prompt or brief piece to get us going\, but mostly we will just write together. This is not a workshopping group or an open mic\, come with your notebook or laptop and get ready to get some words on the page in good company. \nFREE! \n* Participates in Card to Culture
URL:https://lookyheregreenfield.com/event/morning-shift-community-open-writing-time-saturdays-from-1030-1150-19/
CATEGORIES:workshop,writing
ATTACH;FMTTYPE=image/jpeg:https://lookyheregreenfield.com/wp-content/uploads/2026/03/morningshift.jpg
END:VEVENT
BEGIN:VEVENT
DTSTART;TZID=America/New_York:20260816T130000
DTEND;TZID=America/New_York:20260816T160000
DTSTAMP:20260424T001805
CREATED:20260415T190603Z
LAST-MODIFIED:20260415T190604Z
UID:16460-1786885200-1786896000@lookyheregreenfield.com
SUMMARY:*Open Studio Sundays (1-4 p.m.\, drop-ins welcome!)
DESCRIPTION:CRAFT\nMEND\nSEW\nDRAW\nWRITE \nuse the space from 1:00-4:00 p.m. \ndrop-ins welcome! \nBring any project you like. We will set you up with a large table. You can use our sewing machines\, glue guns\, and whatever other resources we have! $10 – free for members
URL:https://lookyheregreenfield.com/event/open-studio-sundays-1-4-p-m-drop-ins-welcome-16/
CATEGORIES:workshop
ATTACH;FMTTYPE=image/jpeg:https://lookyheregreenfield.com/wp-content/uploads/2026/03/IMG_2371.jpg
END:VEVENT
BEGIN:VEVENT
DTSTART;TZID=America/New_York:20260822T103000
DTEND;TZID=America/New_York:20260822T115000
DTSTAMP:20260424T001805
CREATED:20260415T192336Z
LAST-MODIFIED:20260415T192336Z
UID:16480-1787394600-1787399400@lookyheregreenfield.com
SUMMARY:*Morning Shift: Community Open Writing Time (Saturdays from 10:30-11:50)
DESCRIPTION:*Morning Shift: Community Open Writing Time (Saturdays from 10:30-11:50) \nWant to write but having trouble getting started? Or tired of writing alone into the void? Join us for a drop-in writing space\, open to all and free (donations to Looky Here for letting us use the space are encouraged). We will say hello to each other\, share a prompt or brief piece to get us going\, but mostly we will just write together. This is not a workshopping group or an open mic\, come with your notebook or laptop and get ready to get some words on the page in good company. \nFREE! \n* Participates in Card to Culture
URL:https://lookyheregreenfield.com/event/morning-shift-community-open-writing-time-saturdays-from-1030-1150-20/
CATEGORIES:workshop,writing
ATTACH;FMTTYPE=image/jpeg:https://lookyheregreenfield.com/wp-content/uploads/2026/03/morningshift.jpg
END:VEVENT
BEGIN:VEVENT
DTSTART;TZID=America/New_York:20260823T130000
DTEND;TZID=America/New_York:20260823T160000
DTSTAMP:20260424T001805
CREATED:20260415T190708Z
LAST-MODIFIED:20260415T190708Z
UID:16462-1787490000-1787500800@lookyheregreenfield.com
SUMMARY:*Open Studio Sundays (1-4 p.m.\, drop-ins welcome!)
DESCRIPTION:CRAFT\nMEND\nSEW\nDRAW\nWRITE \nuse the space from 1:00-4:00 p.m. \ndrop-ins welcome! \nBring any project you like. We will set you up with a large table. You can use our sewing machines\, glue guns\, and whatever other resources we have! $10 – free for members
URL:https://lookyheregreenfield.com/event/open-studio-sundays-1-4-p-m-drop-ins-welcome-17/
CATEGORIES:workshop
ATTACH;FMTTYPE=image/jpeg:https://lookyheregreenfield.com/wp-content/uploads/2026/03/IMG_2371.jpg
END:VEVENT
BEGIN:VEVENT
DTSTART;TZID=America/New_York:20260827T180000
DTEND;TZID=America/New_York:20260827T200000
DTSTAMP:20260424T001805
CREATED:20260415T184801Z
LAST-MODIFIED:20260415T184801Z
UID:16443-1787853600-1787860800@lookyheregreenfield.com
SUMMARY:*Figure Drawing (8/27) (every other Thursday 6:00-8:00 $15 – free for members)
DESCRIPTION:BYO materials! Easel and drawing horses provided. Figure Drawing at Looky Here is an uninstructed drawing session with a nude model. $15 per session\, running 6-8pm on every other Thursday evening. \n*Participates in Card to Culture
URL:https://lookyheregreenfield.com/event/figure-drawing-8-27-every-other-thursday-600-800-15-free-for-members/
CATEGORIES:workshop
ATTACH;FMTTYPE=image/jpeg:https://lookyheregreenfield.com/wp-content/uploads/2024/09/figure-drawing-scaled.jpg
END:VEVENT
BEGIN:VEVENT
DTSTART;TZID=America/New_York:20260829T103000
DTEND;TZID=America/New_York:20260829T115000
DTSTAMP:20260424T001805
CREATED:20260415T192556Z
LAST-MODIFIED:20260415T192607Z
UID:16482-1787999400-1788004200@lookyheregreenfield.com
SUMMARY:*Morning Shift: Community Open Writing Time (Saturdays from 10:30-11:50)
DESCRIPTION:*Morning Shift: Community Open Writing Time (Saturdays from 10:30-11:50) \nWant to write but having trouble getting started? Or tired of writing alone into the void? Join us for a drop-in writing space\, open to all and free (donations to Looky Here for letting us use the space are encouraged). We will say hello to each other\, share a prompt or brief piece to get us going\, but mostly we will just write together. This is not a workshopping group or an open mic\, come with your notebook or laptop and get ready to get some words on the page in good company. \nFREE! \n* Participates in Card to Culture
URL:https://lookyheregreenfield.com/event/morning-shift-community-open-writing-time-saturdays-from-1030-1150-21/
CATEGORIES:workshop,writing
ATTACH;FMTTYPE=image/jpeg:https://lookyheregreenfield.com/wp-content/uploads/2026/03/morningshift.jpg
END:VEVENT
BEGIN:VEVENT
DTSTART;TZID=America/New_York:20260830T130000
DTEND;TZID=America/New_York:20260830T160000
DTSTAMP:20260424T001805
CREATED:20260415T190810Z
LAST-MODIFIED:20260415T190810Z
UID:16464-1788094800-1788105600@lookyheregreenfield.com
SUMMARY:*Open Studio Sundays (1-4 p.m.\, drop-ins welcome!)
DESCRIPTION:CRAFT\nMEND\nSEW\nDRAW\nWRITE \nuse the space from 1:00-4:00 p.m. \ndrop-ins welcome! \nBring any project you like. We will set you up with a large table. You can use our sewing machines\, glue guns\, and whatever other resources we have! $10 – free for members
URL:https://lookyheregreenfield.com/event/open-studio-sundays-1-4-p-m-drop-ins-welcome-18/
CATEGORIES:workshop
ATTACH;FMTTYPE=image/jpeg:https://lookyheregreenfield.com/wp-content/uploads/2026/03/IMG_2371.jpg
END:VEVENT
END:VCALENDAR