BEGIN:VCALENDAR
VERSION:2.0
PRODID:-//Looky Here - ECPv6.15.20//NONSGML v1.0//EN
CALSCALE:GREGORIAN
METHOD:PUBLISH
X-WR-CALNAME:Looky Here
X-ORIGINAL-URL:https://lookyheregreenfield.com
X-WR-CALDESC:Events for Looky Here
REFRESH-INTERVAL;VALUE=DURATION:PT1H
X-Robots-Tag:noindex
X-PUBLISHED-TTL:PT1H
BEGIN:VTIMEZONE
TZID:America/New_York
BEGIN:DAYLIGHT
TZOFFSETFROM:-0500
TZOFFSETTO:-0400
TZNAME:EDT
DTSTART:20220313T070000
END:DAYLIGHT
BEGIN:STANDARD
TZOFFSETFROM:-0400
TZOFFSETTO:-0500
TZNAME:EST
DTSTART:20221106T060000
END:STANDARD
BEGIN:DAYLIGHT
TZOFFSETFROM:-0500
TZOFFSETTO:-0400
TZNAME:EDT
DTSTART:20230312T070000
END:DAYLIGHT
BEGIN:STANDARD
TZOFFSETFROM:-0400
TZOFFSETTO:-0500
TZNAME:EST
DTSTART:20231105T060000
END:STANDARD
BEGIN:DAYLIGHT
TZOFFSETFROM:-0500
TZOFFSETTO:-0400
TZNAME:EDT
DTSTART:20240310T070000
END:DAYLIGHT
BEGIN:STANDARD
TZOFFSETFROM:-0400
TZOFFSETTO:-0500
TZNAME:EST
DTSTART:20241103T060000
END:STANDARD
END:VTIMEZONE
BEGIN:VEVENT
DTSTART;TZID=America/New_York:20231107T180000
DTEND;TZID=America/New_York:20231107T200000
DTSTAMP:20260425T213222
CREATED:20230901T124222Z
LAST-MODIFIED:20230901T124514Z
UID:6330-1699380000-1699387200@lookyheregreenfield.com
SUMMARY:Strange Page– Experimental Writing Workshop (Tuesdays - 11/7-12/19 - 6:00-8:00p.m.)
DESCRIPTION:The Strange Page is a 7 week writing workshop open to all writing styles\, (poetry\, fiction\, CNF\, experimental\, etc!) but it must be kept under one page! Working with a new prompt each week\, class time will be divided evenly to critique and discuss everyone’s writing. This generative writing workshop is open to adults and mature teens with any level of writing experience. Limited to 12 students.\n\n\nAbout the teacher: Vanessa Brewster is a writer\, musician and educator living in Greenfield. She is a candidate in the Bennington MFA program for fiction and has a Masters degree in Spanish Literature from Middlebury College. Her work is published with Monkeybicycle and she is a cofounder and editor of Looky Here Magazine.
URL:https://lookyheregreenfield.com/event/strange-page-experimental-writing-workshop-tuesdays-11-7-12-19-600-800p-m/
LOCATION:Looky Here\, 28 chapman street\, greenfield\, MA\, 01301\, United States
CATEGORIES:workshop,writing
ATTACH;FMTTYPE=application/pdf:https://lookyheregreenfield.com/wp-content/uploads/2023/09/VanessaPhoto.jpg.pdf
ORGANIZER;CN="Looky Here":MAILTO:lookyheregreenfield@gmail.com
END:VEVENT
BEGIN:VEVENT
DTSTART;TZID=America/New_York:20231114T180000
DTEND;TZID=America/New_York:20231114T200000
DTSTAMP:20260425T213222
CREATED:20231005T112702Z
LAST-MODIFIED:20231005T112703Z
UID:6619-1699984800-1699992000@lookyheregreenfield.com
SUMMARY:The Strange Page - Experimental Writing Workshop (7 Tuesdays\, November 7th - December 19th)
DESCRIPTION:Tickets and info in week 1!
URL:https://lookyheregreenfield.com/event/the-strange-page-experimental-writing-workshop-7-tuesdays-november-7th-december-19th/
CATEGORIES:workshop,writing
END:VEVENT
BEGIN:VEVENT
DTSTART;TZID=America/New_York:20231121T180000
DTEND;TZID=America/New_York:20231121T200000
DTSTAMP:20260425T213222
CREATED:20231005T112813Z
LAST-MODIFIED:20231005T112813Z
UID:6621-1700589600-1700596800@lookyheregreenfield.com
SUMMARY:The Strange Page - Experimental Writing Workshop (7 Tuesdays\, November 7th - December 19th)
DESCRIPTION:Get tickets and info in week 1!
URL:https://lookyheregreenfield.com/event/the-strange-page-experimental-writing-workshop-7-tuesdays-november-7th-december-19th-2/
CATEGORIES:workshop,writing
END:VEVENT
BEGIN:VEVENT
DTSTART;TZID=America/New_York:20231128T180000
DTEND;TZID=America/New_York:20231128T200000
DTSTAMP:20260425T213222
CREATED:20231005T112906Z
LAST-MODIFIED:20231005T112906Z
UID:6623-1701194400-1701201600@lookyheregreenfield.com
SUMMARY:The Strange Page - Experimental Writing Workshop (7 Tuesdays\, November 7th - December 19th)
DESCRIPTION:Get tickets and info in week 1!
URL:https://lookyheregreenfield.com/event/the-strange-page-experimental-writing-workshop-7-tuesdays-november-7th-december-19th-3/
CATEGORIES:workshop,writing
END:VEVENT
END:VCALENDAR