BEGIN:VCALENDAR
VERSION:2.0
PRODID:-//Looky Here - ECPv6.15.20//NONSGML v1.0//EN
CALSCALE:GREGORIAN
METHOD:PUBLISH
X-WR-CALNAME:Looky Here
X-ORIGINAL-URL:https://lookyheregreenfield.com
X-WR-CALDESC:Events for Looky Here
REFRESH-INTERVAL;VALUE=DURATION:PT1H
X-Robots-Tag:noindex
X-PUBLISHED-TTL:PT1H
BEGIN:VTIMEZONE
TZID:America/New_York
BEGIN:DAYLIGHT
TZOFFSETFROM:-0500
TZOFFSETTO:-0400
TZNAME:EDT
DTSTART:20230312T070000
END:DAYLIGHT
BEGIN:STANDARD
TZOFFSETFROM:-0400
TZOFFSETTO:-0500
TZNAME:EST
DTSTART:20231105T060000
END:STANDARD
BEGIN:DAYLIGHT
TZOFFSETFROM:-0500
TZOFFSETTO:-0400
TZNAME:EDT
DTSTART:20240310T070000
END:DAYLIGHT
BEGIN:STANDARD
TZOFFSETFROM:-0400
TZOFFSETTO:-0500
TZNAME:EST
DTSTART:20241103T060000
END:STANDARD
BEGIN:DAYLIGHT
TZOFFSETFROM:-0500
TZOFFSETTO:-0400
TZNAME:EDT
DTSTART:20250309T070000
END:DAYLIGHT
BEGIN:STANDARD
TZOFFSETFROM:-0400
TZOFFSETTO:-0500
TZNAME:EST
DTSTART:20251102T060000
END:STANDARD
END:VTIMEZONE
BEGIN:VEVENT
DTSTART;TZID=America/New_York:20240401T180000
DTEND;TZID=America/New_York:20240401T200000
DTSTAMP:20260425T122514
CREATED:20240217T223904Z
LAST-MODIFIED:20240301T234626Z
UID:7581-1711994400-1712001600@lookyheregreenfield.com
SUMMARY:Writing the Body with Adrie Rose (4 Mondays: 4/1 - 4/22 from 6:00 - 8:00)
DESCRIPTION:Writing the Body – There is no writing without our bodies\, yet we often forget this and/or struggle to bring the body onto the page. All experiences welcome\, and prose/poetry/hybrid/beyond. We will read examples from writers including Audre Lorde\, Leila Chatti\, Melissa Febos\, Aurielle Marie\, Sarah Vap & more\, spend time together writing\, and have time to share as desired.
URL:https://lookyheregreenfield.com/event/writing-the-body-with-adrie-rose-4-wednesdays-4-6-4-27-from-600-800/
CATEGORIES:workshop,writing
ATTACH;FMTTYPE=image/jpeg:https://lookyheregreenfield.com/wp-content/uploads/2023/12/authorphotoAdrie-1.jpg
END:VEVENT
BEGIN:VEVENT
DTSTART;TZID=America/New_York:20240408T180000
DTEND;TZID=America/New_York:20240408T200000
DTSTAMP:20260425T122514
CREATED:20240301T190109Z
LAST-MODIFIED:20240301T235952Z
UID:7762-1712599200-1712606400@lookyheregreenfield.com
SUMMARY:Writing the Body with Adrie Rose (4 Mondays:  4/1 - 4/22 from 6:00 - 8:00)
DESCRIPTION:See April 1st to sign up!
URL:https://lookyheregreenfield.com/event/writing-the-body-with-adrie-rose-4-mondays-4-7-4-28-from-600-800/
CATEGORIES:workshop,writing
END:VEVENT
BEGIN:VEVENT
DTSTART;TZID=America/New_York:20240415T180000
DTEND;TZID=America/New_York:20240415T200000
DTSTAMP:20260425T122514
CREATED:20240301T190159Z
LAST-MODIFIED:20240302T000205Z
UID:7764-1713204000-1713211200@lookyheregreenfield.com
SUMMARY:Writing the Body with Adrie Rose (4 Mondays:  4/1 - 4/22 from 6:00 - 8:00)
DESCRIPTION:See April 1st to sign up!
URL:https://lookyheregreenfield.com/event/writing-the-body-with-adrie-rose-4-mondays-4-7-4-28-from-600-800-2/
CATEGORIES:workshop,writing
END:VEVENT
BEGIN:VEVENT
DTSTART;TZID=America/New_York:20240422T180000
DTEND;TZID=America/New_York:20240422T200000
DTSTAMP:20260425T122514
CREATED:20240301T190250Z
LAST-MODIFIED:20240302T000303Z
UID:7766-1713808800-1713816000@lookyheregreenfield.com
SUMMARY:Writing the Body with Adrie Rose (4 Mondays:  4/1 - 4/22 from 6:00 - 8:00)
DESCRIPTION:See April 1st to sign up!
URL:https://lookyheregreenfield.com/event/writing-the-body-with-adrie-rose-4-mondays-4-7-4-28-from-600-800-3/
CATEGORIES:workshop,writing
END:VEVENT
END:VCALENDAR