BEGIN:VCALENDAR
VERSION:2.0
PRODID:-//Looky Here - ECPv6.15.20//NONSGML v1.0//EN
CALSCALE:GREGORIAN
METHOD:PUBLISH
X-WR-CALNAME:Looky Here
X-ORIGINAL-URL:https://lookyheregreenfield.com
X-WR-CALDESC:Events for Looky Here
REFRESH-INTERVAL;VALUE=DURATION:PT1H
X-Robots-Tag:noindex
X-PUBLISHED-TTL:PT1H
BEGIN:VTIMEZONE
TZID:America/New_York
BEGIN:DAYLIGHT
TZOFFSETFROM:-0500
TZOFFSETTO:-0400
TZNAME:EDT
DTSTART:20240310T070000
END:DAYLIGHT
BEGIN:STANDARD
TZOFFSETFROM:-0400
TZOFFSETTO:-0500
TZNAME:EST
DTSTART:20241103T060000
END:STANDARD
BEGIN:DAYLIGHT
TZOFFSETFROM:-0500
TZOFFSETTO:-0400
TZNAME:EDT
DTSTART:20250309T070000
END:DAYLIGHT
BEGIN:STANDARD
TZOFFSETFROM:-0400
TZOFFSETTO:-0500
TZNAME:EST
DTSTART:20251102T060000
END:STANDARD
BEGIN:DAYLIGHT
TZOFFSETFROM:-0500
TZOFFSETTO:-0400
TZNAME:EDT
DTSTART:20260308T070000
END:DAYLIGHT
BEGIN:STANDARD
TZOFFSETFROM:-0400
TZOFFSETTO:-0500
TZNAME:EST
DTSTART:20261101T060000
END:STANDARD
END:VTIMEZONE
BEGIN:VEVENT
DTSTART;TZID=America/New_York:20250903T180000
DTEND;TZID=America/New_York:20250903T200000
DTSTAMP:20260424T020109
CREATED:20250806T152944Z
LAST-MODIFIED:20250806T185520Z
UID:12755-1756922400-1756929600@lookyheregreenfield.com
SUMMARY:Deranged Sonnets with L Scully (9/3 6:00-8:00 $40)
DESCRIPTION:Shall I compare thee to a fall workshop? \nJoin writer L Scully for a single session workshop focused on creating your own DIY sonnets. You will accompany L for one evening of their daily sonnet quest. This class is a two hour generative session. Arrive with a silly\, open heart\, and leave with the beginnings of three new pieces. While sonnets are a famous poetic staple\, writers from all genres are encouraged to participate. Let’s get weird\, queer\, and let fourteen lines steward our journey together.  \nWednesday\, September 3rd 6-8PM \nL Scully (they/them) is a living writer. Their second book\, SELF-ROMANCING\, is out from Dopamine Books LA in September. They are a double Capricorn and like to boss people around. That includes you\, so come make new work!
URL:https://lookyheregreenfield.com/event/deranged-sonnets-with-l-scully-9-3-600-800-40/
CATEGORIES:workshop,writing
ATTACH;FMTTYPE=image/jpeg:https://lookyheregreenfield.com/wp-content/uploads/2025/08/L-scully-moustache.jpg
END:VEVENT
BEGIN:VEVENT
DTSTART;TZID=America/New_York:20250906T103000
DTEND;TZID=America/New_York:20250906T120000
DTSTAMP:20260424T020109
CREATED:20250806T175810Z
LAST-MODIFIED:20250806T175900Z
UID:12808-1757154600-1757160000@lookyheregreenfield.com
SUMMARY:*Morning Shift: Community Open Writing Time (Saturdays from 10:30-12:00)
DESCRIPTION:*Morning Shift: Community Open Writing Time (Saturdays from 10:30-12:00) \nWant to write but having trouble getting started? Or tired of writing alone into the void? Join us for a drop-in writing space\, open to all and free (donations to Looky Here for letting us use the space are encouraged). We will say hello to each other\, share a prompt or brief piece to get us going\, but mostly we will just write together. This is not a workshopping group or an open mic\, come with your notebook or laptop and get ready to get some words on the page in good company. \nFREE! \n* Participates in Card to Culture
URL:https://lookyheregreenfield.com/event/morning-shift-community-open-writing-time-saturdays-from-1030-1200-19/
CATEGORIES:workshop,writing
END:VEVENT
BEGIN:VEVENT
DTSTART;TZID=America/New_York:20250909T180000
DTEND;TZID=America/New_York:20250909T200000
DTSTAMP:20260424T020109
CREATED:20250718T193004Z
LAST-MODIFIED:20250806T161800Z
UID:12476-1757440800-1757448000@lookyheregreenfield.com
SUMMARY:The Art of Restraint: Exploring Poetic Forms (8 Tuesdays with Sarah Wisby 9/9-10/28)
DESCRIPTION:The Art of Restraint: Exploring Poetic Forms \nwith Sarah Wisby \nLooking for structure? Curious about constraints? In this 8 week generative poetry class\, we will read and write in a variety of short forms\, from the abcedarian to the ghazal. Emphasis will be on playfulness and freedom. Some poets we will likely read include Victoria Chang\, Marilyn Hacker\, Agha Shahid Ali\, Adrienne Rich\, Terrance Hayes\, Issa\, and Elizabeth Bishop. \n8 Tuesdays \nSeptember 9 – October 28 \n6-8 pm \nLooky Here \n$200
URL:https://lookyheregreenfield.com/event/the-art-of-restraint-exploring-poetic-forms-8-tuesdays-with-sarah-wisby-9-9-10-28/
CATEGORIES:workshop,writing
ATTACH;FMTTYPE=image/jpeg:https://lookyheregreenfield.com/wp-content/uploads/2025/07/art-of-restraint-1.jpg
END:VEVENT
BEGIN:VEVENT
DTSTART;TZID=America/New_York:20250913T103000
DTEND;TZID=America/New_York:20250913T120000
DTSTAMP:20260424T020109
CREATED:20250806T180049Z
LAST-MODIFIED:20250806T180238Z
UID:12810-1757759400-1757764800@lookyheregreenfield.com
SUMMARY:*Morning Shift: Community Open Writing Time (Saturdays from 10:30-12:00)
DESCRIPTION:*Morning Shift: Community Open Writing Time (Saturdays from 10:30-12:00) \nWant to write but having trouble getting started? Or tired of writing alone into the void? Join us for a drop-in writing space\, open to all and free (donations to Looky Here for letting us use the space are encouraged). We will say hello to each other\, share a prompt or brief piece to get us going\, but mostly we will just write together. This is not a workshopping group or an open mic\, come with your notebook or laptop and get ready to get some words on the page in good company. \nFREE! \n* Participates in Card to Culture
URL:https://lookyheregreenfield.com/event/morning-shift-community-open-writing-time-saturdays-from-1030-1200-20/
CATEGORIES:workshop,writing
ATTACH;FMTTYPE=image/jpeg:https://lookyheregreenfield.com/wp-content/uploads/2025/04/image0-82-1.jpeg
END:VEVENT
BEGIN:VEVENT
DTSTART;TZID=America/New_York:20250920T103000
DTEND;TZID=America/New_York:20250920T120000
DTSTAMP:20260424T020109
CREATED:20250806T180451Z
LAST-MODIFIED:20250806T180452Z
UID:12812-1758364200-1758369600@lookyheregreenfield.com
SUMMARY:*Morning Shift: Community Open Writing Time (Saturdays from 10:30-12:00)
DESCRIPTION:*Morning Shift: Community Open Writing Time (Saturdays from 10:30-12:00) \nWant to write but having trouble getting started? Or tired of writing alone into the void? Join us for a drop-in writing space\, open to all and free (donations to Looky Here for letting us use the space are encouraged). We will say hello to each other\, share a prompt or brief piece to get us going\, but mostly we will just write together. This is not a workshopping group or an open mic\, come with your notebook or laptop and get ready to get some words on the page in good company. \nFREE! \n* Participates in Card to Culture
URL:https://lookyheregreenfield.com/event/morning-shift-community-open-writing-time-saturdays-from-1030-1200-21/
CATEGORIES:workshop,writing
ATTACH;FMTTYPE=image/jpeg:https://lookyheregreenfield.com/wp-content/uploads/2025/04/image0-82-1.jpeg
END:VEVENT
BEGIN:VEVENT
DTSTART;TZID=America/New_York:20250927T103000
DTEND;TZID=America/New_York:20250927T120000
DTSTAMP:20260424T020109
CREATED:20250806T180703Z
LAST-MODIFIED:20250806T180706Z
UID:12814-1758969000-1758974400@lookyheregreenfield.com
SUMMARY:*Morning Shift: Community Open Writing Time (Saturdays from 10:30-12:00)
DESCRIPTION:*Morning Shift: Community Open Writing Time (Saturdays from 10:30-12:00) \nWant to write but having trouble getting started? Or tired of writing alone into the void? Join us for a drop-in writing space\, open to all and free (donations to Looky Here for letting us use the space are encouraged). We will say hello to each other\, share a prompt or brief piece to get us going\, but mostly we will just write together. This is not a workshopping group or an open mic\, come with your notebook or laptop and get ready to get some words on the page in good company. \nFREE! \n* Participates in Card to Culture
URL:https://lookyheregreenfield.com/event/morning-shift-community-open-writing-time-saturdays-from-1030-1200-22/
CATEGORIES:workshop,writing
ATTACH;FMTTYPE=image/jpeg:https://lookyheregreenfield.com/wp-content/uploads/2025/04/image0-82-1.jpeg
END:VEVENT
END:VCALENDAR