BEGIN:VCALENDAR
VERSION:2.0
PRODID:-//Looky Here - ECPv6.15.20//NONSGML v1.0//EN
CALSCALE:GREGORIAN
METHOD:PUBLISH
X-WR-CALNAME:Looky Here
X-ORIGINAL-URL:https://lookyheregreenfield.com
X-WR-CALDESC:Events for Looky Here
REFRESH-INTERVAL;VALUE=DURATION:PT1H
X-Robots-Tag:noindex
X-PUBLISHED-TTL:PT1H
BEGIN:VTIMEZONE
TZID:America/New_York
BEGIN:DAYLIGHT
TZOFFSETFROM:-0500
TZOFFSETTO:-0400
TZNAME:EDT
DTSTART:20230312T070000
END:DAYLIGHT
BEGIN:STANDARD
TZOFFSETFROM:-0400
TZOFFSETTO:-0500
TZNAME:EST
DTSTART:20231105T060000
END:STANDARD
BEGIN:DAYLIGHT
TZOFFSETFROM:-0500
TZOFFSETTO:-0400
TZNAME:EDT
DTSTART:20240310T070000
END:DAYLIGHT
BEGIN:STANDARD
TZOFFSETFROM:-0400
TZOFFSETTO:-0500
TZNAME:EST
DTSTART:20241103T060000
END:STANDARD
BEGIN:DAYLIGHT
TZOFFSETFROM:-0500
TZOFFSETTO:-0400
TZNAME:EDT
DTSTART:20250309T070000
END:DAYLIGHT
BEGIN:STANDARD
TZOFFSETFROM:-0400
TZOFFSETTO:-0500
TZNAME:EST
DTSTART:20251102T060000
END:STANDARD
END:VTIMEZONE
BEGIN:VEVENT
DTSTART;TZID=America/New_York:20240114T140000
DTEND;TZID=America/New_York:20240114T160000
DTSTAMP:20260425T194111
CREATED:20231201T210756Z
LAST-MODIFIED:20231203T135553Z
UID:6987-1705240800-1705248000@lookyheregreenfield.com
SUMMARY:Generative Poetry Workshop with Adrie Rose (4 Sundays - 2:00-4:00p.m.)
DESCRIPTION:Join us for a generative poetry workshop this January. We’ll play with forms\, use sizzling hot poems as jumping-off points\, and get into our bodies in order to flex our voices\, all in a warmly supportive space. Poets of all levels are welcome\, just bring a way to write and your enthusiasm for words–what they can do and the places where they’re not enough! Taught by Adrie Rose\, editor of Nine Syllables Press at Smith College\, and author of I Will Write a Love Poem (Porkbelly Press) and Rupture (Gold Line Press).
URL:https://lookyheregreenfield.com/event/generative-poetry-workshop/
CATEGORIES:workshop,writing
ATTACH;FMTTYPE=image/jpeg:https://lookyheregreenfield.com/wp-content/uploads/2023/12/authorphotoAdrie-1.jpg
END:VEVENT
END:VCALENDAR