BEGIN:VCALENDAR
VERSION:2.0
PRODID:-//Looky Here - ECPv6.15.20//NONSGML v1.0//EN
CALSCALE:GREGORIAN
METHOD:PUBLISH
X-ORIGINAL-URL:https://lookyheregreenfield.com
X-WR-CALDESC:Events for Looky Here
REFRESH-INTERVAL;VALUE=DURATION:PT1H
X-Robots-Tag:noindex
X-PUBLISHED-TTL:PT1H
BEGIN:VTIMEZONE
TZID:America/New_York
BEGIN:DAYLIGHT
TZOFFSETFROM:-0500
TZOFFSETTO:-0400
TZNAME:EDT
DTSTART:20240310T070000
END:DAYLIGHT
BEGIN:STANDARD
TZOFFSETFROM:-0400
TZOFFSETTO:-0500
TZNAME:EST
DTSTART:20241103T060000
END:STANDARD
BEGIN:DAYLIGHT
TZOFFSETFROM:-0500
TZOFFSETTO:-0400
TZNAME:EDT
DTSTART:20250309T070000
END:DAYLIGHT
BEGIN:STANDARD
TZOFFSETFROM:-0400
TZOFFSETTO:-0500
TZNAME:EST
DTSTART:20251102T060000
END:STANDARD
BEGIN:DAYLIGHT
TZOFFSETFROM:-0500
TZOFFSETTO:-0400
TZNAME:EDT
DTSTART:20260308T070000
END:DAYLIGHT
BEGIN:STANDARD
TZOFFSETFROM:-0400
TZOFFSETTO:-0500
TZNAME:EST
DTSTART:20261101T060000
END:STANDARD
END:VTIMEZONE
BEGIN:VEVENT
DTSTART;TZID=America/New_York:20250107T180000
DTEND;TZID=America/New_York:20250107T200000
DTSTAMP:20260424T181332
CREATED:20241204T154332Z
LAST-MODIFIED:20241204T154354Z
UID:9874-1736272800-1736280000@lookyheregreenfield.com
SUMMARY:Carousel (4 week writing workshop with L. Scully - Tuesdays 6:00-8:00 $100)
DESCRIPTION:One month\, four themes\, and your new year’s writing commitment. Over the course of four weeks\, gather to discuss and generate new work with writer L Scully. This workshop will occur Tuesday evenings in January in two hour\, limited group sessions at LookyHere. Each week we will explore a different theme through literary and artistic references\, group discussion\, and generative writing prompts provided live and in session. The ultimate goal of this workshop is to jumpstart your writing practice for 2025 in a supportive and productive environment guided by a tapestry of subject matter. Let’s get weird! \n4 Tuesdays 1/7-1/28 \n6:00-8:00pm \nThis class will end with an Open Mic Reading on Friday\, January 31st at 7:00!
URL:https://lookyheregreenfield.com/event/carousel-4-week-writing-workshop-with-l-scully-tuesdays-600-800-100/
CATEGORIES:workshop,writing
ATTACH;FMTTYPE=image/jpeg:https://lookyheregreenfield.com/wp-content/uploads/2024/12/Carousel.jpg
END:VEVENT
END:VCALENDAR