BEGIN:VCALENDAR
VERSION:2.0
PRODID:-//Looky Here - ECPv6.15.20//NONSGML v1.0//EN
CALSCALE:GREGORIAN
METHOD:PUBLISH
X-ORIGINAL-URL:https://lookyheregreenfield.com
X-WR-CALDESC:Events for Looky Here
REFRESH-INTERVAL;VALUE=DURATION:PT1H
X-Robots-Tag:noindex
X-PUBLISHED-TTL:PT1H
BEGIN:VTIMEZONE
TZID:America/New_York
BEGIN:DAYLIGHT
TZOFFSETFROM:-0500
TZOFFSETTO:-0400
TZNAME:EDT
DTSTART:20240310T070000
END:DAYLIGHT
BEGIN:STANDARD
TZOFFSETFROM:-0400
TZOFFSETTO:-0500
TZNAME:EST
DTSTART:20241103T060000
END:STANDARD
BEGIN:DAYLIGHT
TZOFFSETFROM:-0500
TZOFFSETTO:-0400
TZNAME:EDT
DTSTART:20250309T070000
END:DAYLIGHT
BEGIN:STANDARD
TZOFFSETFROM:-0400
TZOFFSETTO:-0500
TZNAME:EST
DTSTART:20251102T060000
END:STANDARD
BEGIN:DAYLIGHT
TZOFFSETFROM:-0500
TZOFFSETTO:-0400
TZNAME:EDT
DTSTART:20260308T070000
END:DAYLIGHT
BEGIN:STANDARD
TZOFFSETFROM:-0400
TZOFFSETTO:-0500
TZNAME:EST
DTSTART:20261101T060000
END:STANDARD
END:VTIMEZONE
BEGIN:VEVENT
DTSTART;TZID=America/New_York:20250810T170000
DTEND;TZID=America/New_York:20250810T190000
DTSTAMP:20260424T053122
CREATED:20250604T181001Z
LAST-MODIFIED:20250803T024054Z
UID:12054-1754845200-1754852400@lookyheregreenfield.com
SUMMARY:Carousel (4 weeks 8/10-8/31 writing workshop with L. Scully)
DESCRIPTION:Four weeks\, four themes. Over the course of two months\, gather to discuss and generate new work with writer L Scully. This workshop will occur Sunday evenings in August in two hour\, limited group sessions at Looky Here. Each week we will explore a different theme through literary and artistic references\, group discussion\, and generative writing prompts provided live and in session. The ultimate goal of this workshop is to jumpstart your writing practice in a supportive and productive environment guided by a tapestry of subject matter. Let’s get weird! \n4 Sundays 8/10-8/32 \n5:00-7:00pm \nThis class will end with an Open Mic Reading TBD.
URL:https://lookyheregreenfield.com/event/12054/
CATEGORIES:workshop,writing
ATTACH;FMTTYPE=image/jpeg:https://lookyheregreenfield.com/wp-content/uploads/2024/12/Carousel.jpg
END:VEVENT
END:VCALENDAR