BEGIN:VCALENDAR
VERSION:2.0
PRODID:-//Looky Here - ECPv6.15.20//NONSGML v1.0//EN
CALSCALE:GREGORIAN
METHOD:PUBLISH
X-WR-CALNAME:Looky Here
X-ORIGINAL-URL:https://lookyheregreenfield.com
X-WR-CALDESC:Events for Looky Here
REFRESH-INTERVAL;VALUE=DURATION:PT1H
X-Robots-Tag:noindex
X-PUBLISHED-TTL:PT1H
BEGIN:VTIMEZONE
TZID:America/New_York
BEGIN:DAYLIGHT
TZOFFSETFROM:-0500
TZOFFSETTO:-0400
TZNAME:EDT
DTSTART:20250309T070000
END:DAYLIGHT
BEGIN:STANDARD
TZOFFSETFROM:-0400
TZOFFSETTO:-0500
TZNAME:EST
DTSTART:20251102T060000
END:STANDARD
BEGIN:DAYLIGHT
TZOFFSETFROM:-0500
TZOFFSETTO:-0400
TZNAME:EDT
DTSTART:20260308T070000
END:DAYLIGHT
BEGIN:STANDARD
TZOFFSETFROM:-0400
TZOFFSETTO:-0500
TZNAME:EST
DTSTART:20261101T060000
END:STANDARD
BEGIN:DAYLIGHT
TZOFFSETFROM:-0500
TZOFFSETTO:-0400
TZNAME:EDT
DTSTART:20270314T070000
END:DAYLIGHT
BEGIN:STANDARD
TZOFFSETFROM:-0400
TZOFFSETTO:-0500
TZNAME:EST
DTSTART:20271107T060000
END:STANDARD
END:VTIMEZONE
BEGIN:VEVENT
DTSTART;TZID=America/New_York:20260408T180000
DTEND;TZID=America/New_York:20260408T200000
DTSTAMP:20260423T145430
CREATED:20260204T203904Z
LAST-MODIFIED:20260324T200515Z
UID:15479-1775671200-1775678400@lookyheregreenfield.com
SUMMARY:Pile of Poems to Manuscript with Zoe Tuck (five weeks\, 4/8 - 5/6\, 6:00-8:00 $125)
DESCRIPTION:5 week class starts 4/8! \nPile of Poems to Manuscript is a class for anyone who has been writing poems but is struggling to turn them into a manuscript. Over the course of six weeks\, we’ll look at various organizing principles and techniques that authors have used in their books and apply them to our own work. We will engage in a series of exercises involving arranging\, adding\, and removing poems\, and editing work not only with an eye towards a single piece but its role within a larger whole. We will also talk about why we create and publish books and work on tailoring our plans for publication and circulation to the scale and audience we want.
URL:https://lookyheregreenfield.com/event/pile-of-poems-to-manuscript-with-zoe-tuck-six-weeks-3-15-4-19-1000-a-m-1200-p-m/
CATEGORIES:workshop,writing
ATTACH;FMTTYPE=image/jpeg:https://lookyheregreenfield.com/wp-content/uploads/2026/02/pile-of-poems1.jpg
END:VEVENT
END:VCALENDAR